BEGIN:VCALENDAR
VERSION:2.0
PRODID:-//BYV - ECPv6.15.20//NONSGML v1.0//EN
CALSCALE:GREGORIAN
METHOD:PUBLISH
X-WR-CALNAME:BYV
X-ORIGINAL-URL:https://byv.org.tr
X-WR-CALDESC:BYV için etkinlikler
REFRESH-INTERVAL;VALUE=DURATION:PT1H
X-Robots-Tag:noindex
X-PUBLISHED-TTL:PT1H
BEGIN:VTIMEZONE
TZID:Europe/Istanbul
BEGIN:STANDARD
TZOFFSETFROM:+0300
TZOFFSETTO:+0300
TZNAME:+03
DTSTART:20240101T000000
END:STANDARD
END:VTIMEZONE
BEGIN:VEVENT
DTSTART;VALUE=DATE:20250922
DTEND;VALUE=DATE:20250924
DTSTAMP:20260420T211830
CREATED:20250919T135410Z
LAST-MODIFIED:20250919T135716Z
UID:31207-1758499200-1758671999@byv.org.tr
SUMMARY:Üniversiteyi Tanıma Günleri’nde Standımızda Buluşalım!
DESCRIPTION:Boğaziçi Yöneticiler Vakfı olarak\, Üniversiteyi Tanıma Günleri kapsamında 22-23 Eylül tarihlerinde Boğaziçi Üniversitesi Güney Kampüs’te öğrencilerimizle bir araya geliyoruz. \nEtkinlik boyunca vakfımızın sunduğu imkânlar ve öğrenciler için geliştirdiğimiz projeler hakkında detaylı bilgi edinebileceksiniz. Güney Kampüs’ün eşsiz atmosferinde sizleri standımızda ağırlamaktan mutluluk duyarız. \nVakfımızın faaliyetleri arasında \n\nBurs Başvuruları\nHamilik Okulu\nGönüllü Faaliyetler\nKariyer Yolculuğu\nKültürel Etkinlikler\n\nve daha pek çok çalışma yer almaktadır. \nSizleri standımıza davet ediyor\, vakfımızı yakından tanıma fırsatını kaçırmamanızı diliyoruz. \n\n📅 22 – 23 Eylül 2025\n📍 Boğaziçi Üniversitesi Güney Kampüs
URL:https://byv.org.tr/evnt/universiteyi-tanima-gunlerinde-standimizda-bulusalim/
LOCATION:Boğaziçi Üniversitesi Güney Kampüs
CATEGORIES:Oryantasyon
ATTACH;FMTTYPE=image/jpeg:https://byv.org.tr/wp-content/uploads/2025/09/BYV-Oryantasyon-web1.jpeg
END:VEVENT
END:VCALENDAR