BEGIN:VCALENDAR
VERSION:2.0
PRODID:-//BYV - ECPv6.15.20//NONSGML v1.0//EN
CALSCALE:GREGORIAN
METHOD:PUBLISH
X-WR-CALNAME:BYV
X-ORIGINAL-URL:https://byv.org.tr
X-WR-CALDESC:BYV için etkinlikler
REFRESH-INTERVAL;VALUE=DURATION:PT1H
X-Robots-Tag:noindex
X-PUBLISHED-TTL:PT1H
BEGIN:VTIMEZONE
TZID:Europe/Istanbul
BEGIN:STANDARD
TZOFFSETFROM:+0300
TZOFFSETTO:+0300
TZNAME:+03
DTSTART:20220101T000000
END:STANDARD
END:VTIMEZONE
BEGIN:VEVENT
DTSTART;TZID=Europe/Istanbul:20230115T065000
DTEND;TZID=Europe/Istanbul:20230115T101500
DTSTAMP:20260423T145127
CREATED:20230125T053657Z
LAST-MODIFIED:20260316T114448Z
UID:27284-1673765400-1673777700@byv.org.tr
SUMMARY:Sabah Namazı Buluşmalarında Bu Ayki Durağımız: Validebağ Koru Camii
DESCRIPTION:Bu ayki Sabah Namazı Programımız için sadeliği ve estetiğiyle dikkatleri üzerine çeken ferah ve zarif Validebağ Koru Camiinde Buluşuyoruz. Camiinin yapımında büyük gayretler sarf eden camiinin kurucusu İş Adamı Serhat Kalsın Bey ile sabah namazı ardından sohbetimiz olacaktır. \nProgramımız çorba ve simit ikramı ardından sona erecek olup Kuzey Kampüsten gidiş ve dönüş için servisimiz vardır. Programımıza tüm mensuplarımız davetlidir. \nKatılım teyidi vermek için Kayıt Ol butonunu kullanabilirsiniz. \nKayıt OlProgramımız Şubat ayına ertelenmiştir\, ilginiz için teşekkür ederiz.\nNot: Servisimiz Kuzey Kampüs girişten saat 06.50 itibariyle hareket edecektir. Lütfen en az 10 dk öncesinde servis alanında bulununuz. \nProgram Akışı\n06.50 Kuzey Kampüs Girişten Hareket\n07.30 Validebağ Koru Camii’nde Sabah Namazı\n08.30 Kahvaltı\n09.00 Sohbet\n10.15 Servis Hareket (Kuzey Kampüs Varış) \nSelam ve Saygılarımızla\, \nBYV – Öğrencilerle İlişkiler Komisyonu (ÖİK)
URL:https://byv.org.tr/evnt/sabah-namazi-bulusmalarinda-bu-ayki-duragimiz-validebag-koru-camii/
LOCATION:Validebağ Koru Camii\, Altunizade Mahallesi\, Rauf Sokak\, Üsküdar\, İstanbul\, Türkiye
CATEGORIES:Sabah Namazı Buluşmaları
ATTACH;FMTTYPE=image/jpeg:https://byv.org.tr/wp-content/uploads/2023/01/validebag-koru-camii-uskudar_0001.jpg
END:VEVENT
END:VCALENDAR