BEGIN:VCALENDAR
VERSION:2.0
PRODID:-//BYV - ECPv6.15.20//NONSGML v1.0//EN
CALSCALE:GREGORIAN
METHOD:PUBLISH
X-ORIGINAL-URL:https://byv.org.tr
X-WR-CALDESC:BYV için etkinlikler
REFRESH-INTERVAL;VALUE=DURATION:PT1H
X-Robots-Tag:noindex
X-PUBLISHED-TTL:PT1H
BEGIN:VTIMEZONE
TZID:Europe/Istanbul
BEGIN:STANDARD
TZOFFSETFROM:+0300
TZOFFSETTO:+0300
TZNAME:+03
DTSTART:20220101T000000
END:STANDARD
END:VTIMEZONE
BEGIN:VEVENT
DTSTART;TZID=Europe/Istanbul:20230312T065000
DTEND;TZID=Europe/Istanbul:20230312T065000
DTSTAMP:20260423T131251
CREATED:20230304T092745Z
LAST-MODIFIED:20230304T105051Z
UID:27456-1678603800-1678603800@byv.org.tr
SUMMARY:Sabah Namazı Buluşmalarında Büyük Selimiye Camiindeyiz!
DESCRIPTION:12 Mart Pazar günü Büyük Selimiye Camiinde Buluşuyoruz!\nSabah Namazı Programımız için Osmanlı baroku diye adlandırılan üslûbun karakteristik binalarından biri olan Büyük Selimiye Camiinde buluşuyoruz. III. Selim tarafından Üsküdar’daki Kavak Sarayı arazisinde yaptırılan külliye\, binalarının çeşitliliği ve kapsamı ile geleneksel sultan külliyesi anlayışının dışındadır. Tamamı III. Selim inşa edilen Selimiye Camii\, yanında mektep\, Nakşibendî zâviyesiyle içinde mescid (Küçük Selimiye Camii)\, dârüttıbâa\, hamam\, doksan yedi dükkân\, on mesken\, meşruta\, dört çeşme\, kerestehane\, mumhâne\, beş boyacı ile bir iplik ağartıcılar yeri\, kırk sekiz-kırk dokuzar odalı yedi ayrı sandalcılar (ipekli dokuma) hanı\, pınar esnafı hanı ve francala fırını yaptırılmıştır. \n12 Mart Pazar günü tarihi Büyük Selimiye Camii davetlisiniz. Sabah Namazı eda edildikten sonra Camiinin tarihi hakkında Prof. Dr. Süleyman Kızıltoprak bizlere rehberlik edecek\, ardından kahvaltı yapılacaktır. \nGidiş ve dönüş için Kuzey Kampüsten servisimiz vardır. Programımıza tüm mensuplarımız davetlidir. \nİrtibat no: 506 154 88 33 Ebranur Uzun\n \nKatılım teyidi vermek için KAYIT OL butonunu kullanabilirsiniz. \nKayıt OlNOT: Servisimiz Kuzey Kampüs girişten saat 05.50 itibariyle hareket edecektir. Lütfen en az 10 dk öncesinde servis alanında bulununuz\n\n\n\n\n\n\nSaat\n\n\nProgram Akışı\n\n\n\n\n\n05.50\nİmsak & Kuzey Kampüs Girişten Hareket\n\n\n06.20\nBüyük Selimiye Camii’nde Sabah Namazı\n\n\n07.00\nBüyük Selimiye Camii’nin Tarihi Hakkında Bilgilendirme\n\n\n08.00\nKahvaltı\n\n\n10.00\nServis Hareket (Kuzey Kampüs Varış)\n\n\n\n\nSelam ve Saygılarımızla\, \nBYV – Öğrencilerle İlişkiler Komisyonu (ÖİK)
URL:https://byv.org.tr/evnt/sabah-namazi-bulusmalarinda-buyuk-selimiye-camiindeyiz/
LOCATION:Büyük Selimiye Camii\, Üsküdar\, İstanbul\, Türkiye
CATEGORIES:Sabah Namazı Buluşmaları
ATTACH;FMTTYPE=image/png:https://byv.org.tr/wp-content/uploads/2023/03/16.9-1.png
END:VEVENT
BEGIN:VEVENT
DTSTART;TZID=Europe/Istanbul:20230326T033000
DTEND;TZID=Europe/Istanbul:20230326T070000
DTSTAMP:20260423T131251
CREATED:20230324T080638Z
LAST-MODIFIED:20230324T091145Z
UID:27613-1679801400-1679814000@byv.org.tr
SUMMARY:Filistin Direnişine Destek: El Fecru’l Azim Sabah Namazı Buluşmalarındayız!
DESCRIPTION:Kudüs ve Mescid-i Aksa’yı Müslümanların gündeminde tutmak için Filistin’de başlatılan ve pek çok STK seferberliği ile devam eden El Fecru’l Azim Sabah Namazı Buluşmalarına bizler de iştirak ediyoruz. \nGidiş ve dönüş için Kuzey Kapıdan servisimiz mevcut olup Süleymaniye’de sahur ikramı olacaktır. Tüm mensuplarımız davetlidir. \nKayıt için Kayıt Ol butonunu kullanabilirsiniz. \nKayıt Ol
URL:https://byv.org.tr/evnt/filistin-direnisine-destek-el-fecrul-azim-sabah-namazi-bulusmalarindayiz/
LOCATION:Süleymaniye Camii\, Süleymaniye\, Prof. Sıddık Sami Onar Cd. No:1\, 34116 Fatih/İstanbul\, İstanbul\, İstanbul\, 34116\, Türkiye
CATEGORIES:Sabah Namazı Buluşmaları
ATTACH;FMTTYPE=image/png:https://byv.org.tr/wp-content/uploads/2023/03/169-1-1.png
END:VEVENT
END:VCALENDAR