BEGIN:VCALENDAR
VERSION:2.0
PRODID:-//BYV - ECPv6.15.20//NONSGML v1.0//EN
CALSCALE:GREGORIAN
METHOD:PUBLISH
X-WR-CALNAME:BYV
X-ORIGINAL-URL:https://byv.org.tr
X-WR-CALDESC:BYV için etkinlikler
REFRESH-INTERVAL;VALUE=DURATION:PT1H
X-Robots-Tag:noindex
X-PUBLISHED-TTL:PT1H
BEGIN:VTIMEZONE
TZID:Europe/Istanbul
BEGIN:STANDARD
TZOFFSETFROM:+0300
TZOFFSETTO:+0300
TZNAME:+03
DTSTART:20220101T000000
END:STANDARD
END:VTIMEZONE
BEGIN:VEVENT
DTSTART;TZID=Europe/Istanbul:20230402T043000
DTEND;TZID=Europe/Istanbul:20230402T070000
DTSTAMP:20260423T115157
CREATED:20230329T111744Z
LAST-MODIFIED:20230329T124006Z
UID:27686-1680409800-1680418800@byv.org.tr
SUMMARY:El Fecru’l Azim Sabah Namazı Buluşmalarının İkincisindeyiz!
DESCRIPTION:Filistin halkına destek amacıyla gerçekleştirilen El Fecru’l Azim Sabah Namazının bu yılki ikinci buluşmasına bizler de iştirak ediyoruz. \nGidiş ve dönüş için Kuzey Kapıdan servisimiz olacaktır. Muhammed Emin Yıldırım’ın konuk olacağı buluşmaya tüm mensuplarımız davetlidir. \nNot: Sahur bireysel yapılacak ve ardından yola çıkılacaktır. \nKayıt için Kayıt Ol butonunu kullanabilirsiniz. \nKayıt Ol
URL:https://byv.org.tr/evnt/el-fecrul-azim-sabah-namazi-bulusmalarinin-ikincisindeyiz/
LOCATION:Süleymaniye Camii\, Süleymaniye\, Prof. Sıddık Sami Onar Cd. No:1\, 34116 Fatih/İstanbul\, İstanbul\, İstanbul\, 34116\, Türkiye
CATEGORIES:Sabah Namazı Buluşmaları
ATTACH;FMTTYPE=image/png:https://byv.org.tr/wp-content/uploads/2023/03/web.png
END:VEVENT
BEGIN:VEVENT
DTSTART;TZID=Europe/Istanbul:20230415T040000
DTEND;TZID=Europe/Istanbul:20230415T060000
DTSTAMP:20260423T115157
CREATED:20230413T084447Z
LAST-MODIFIED:20230413T085141Z
UID:27751-1681531200-1681538400@byv.org.tr
SUMMARY:15 Nisan Cumartesi günü Emirgan Hamid-i Evvel Camiinde Buluşuyoruz!
DESCRIPTION:Sabah Namazı Buluşmalarında Bu Ay Emirgan Hamid-i Evvel Camiine Gidiyoruz! \nSabah Namazı Buluşmamız için ahşap çatılı\, tek minareli ve kiremit yapıda bulunan Hamid-i Evvel Camiinde buluşuyoruz. 1. Abdülhamit tarafından erken yaşta vefat eden şehzadelerinden Mehmed ve onun annesi Hümâşah Hatun için yaptırılan Camii bir avlu içerisinde yer alır. \nGünümüzde camii avlusunun kuzeyinde\, zaman içerisinde pek çok değişiklik geçirmiş binalar ve şadırvan bulunmaktadır. Üzerindeki sülüs hatlı iki satırlık manzum kitabeden şadırvanın\, Mısır valisi Mehmet Ali Paşa’nın haremi Mümtaz kadın efendinin kalfalarından Rebgi Gül Hanım tarafından yaptırıldığı öğrenilmektedir. \n\n15 Nisan Cumartesi günü gerçekleştireceğimiz Sabah Namazı Buluşması Programına davetlisiniz. Vakıf merkezinde sahur yapıldıktan sonra sabah namazını eda etmek üzere Hamid-i Evvel Camiine gitmek üzere servis vakıf merkezi önünden hareket edecektir. Sabah namazının ardından Camii İmamı Aziz Hardal Beyefendi Camiinin tarihi hakkında bilgilendirme yapacaktır.\n\nİrtibat No: 544 334 05 29 Ayşe Dağlı\n\nKatılım teyidi vermek için KAYIT OL butonunu kullanabilirsiniz. \nKAYIT OL\nProgramımız hanımlara yöneliktir.\nServis saat 04.50’de Vakıf Merkezimizden hareket edecektir. Lütfen en az 10 dk öncesinde servis hareket alanında bulununuz.\n\n\n\n\n\n\nSaat\nProgram Akışı\n\n\n\n\n04.15\nVakıf Merkezinde Sahur\n\n\n04.47\nİmsak\n\n\n04.50\nVakıf Merkezinden Hareket\n\n\n05.20\nEmirgan Hamid-i Evvel Camiinde Sabah Namazı\n\n\n05.45\nEmirgan Hamid-i Evvel Camii Hakkında Tarihi Bilgilendirme\n\n\n06.00\nServis Hareket (Kuzey Kampüs Varış)\n\n\n\n\n  \nSelam ve Saygılarımızla\,\n\nBYV – Öğrencilerle İlişkiler Komisyonu (ÖİK)
URL:https://byv.org.tr/evnt/15-nisan-cumartesi-gunu-emirgan-hamid-i-evvel-camiinde-bulusuyoruz/
LOCATION:Emirgan Hamid-i Evvel Camii\, Emirgan\, Doğru Muvakkithane Cd. No:3\, Sarıyer/İstanbul\, İstanbul\, İstanbul\, 34467\, Türkiye
CATEGORIES:Sabah Namazı Buluşmaları
ATTACH;FMTTYPE=image/png:https://byv.org.tr/wp-content/uploads/2023/04/Sabah-Namazi-16.9-1.png
END:VEVENT
END:VCALENDAR