BEGIN:VCALENDAR
VERSION:2.0
PRODID:-//BYV - ECPv6.15.20//NONSGML v1.0//EN
CALSCALE:GREGORIAN
METHOD:PUBLISH
X-WR-CALNAME:BYV
X-ORIGINAL-URL:https://byv.org.tr
X-WR-CALDESC:BYV için etkinlikler
REFRESH-INTERVAL;VALUE=DURATION:PT1H
X-Robots-Tag:noindex
X-PUBLISHED-TTL:PT1H
BEGIN:VTIMEZONE
TZID:Europe/Istanbul
BEGIN:STANDARD
TZOFFSETFROM:+0300
TZOFFSETTO:+0300
TZNAME:+03
DTSTART:20220101T000000
END:STANDARD
END:VTIMEZONE
BEGIN:VEVENT
DTSTART;TZID=Europe/Istanbul:20230507T050000
DTEND;TZID=Europe/Istanbul:20230507T100000
DTSTAMP:20260423T101541
CREATED:20230505T085838Z
LAST-MODIFIED:20230505T094021Z
UID:27854-1683435600-1683453600@byv.org.tr
SUMMARY:Sabah Namazında Yeni Camii'nde Buluşuyoruz!
DESCRIPTION:7 Mayıs Pazar günü Sabah Namazı Buluşmaları kapsamında bir ilke giderek bir buluşmada iki camiiyi ziyaret ediyoruz. İlk durağımız olan Yeni Camii\, İstanbul’da Osmanlı ailesi tarafından yaptırılan büyük camilerin son örneğidir. Osmanlı dönemi Türk mimarisinde yapımı en uzun sürede tamamlanabilen cami olarak bilinir. Mimar Davut Ağa tarafından yapılmaya başlanmış\, Mimar Dalgıç Ahmed Ağa devam ettirmiş ancak Safiye Sultan’ın ölümü ile yarım kalan inşaat\, başlangıcından 66 yıl sonra dönemin mimarbaşısı Mustafa Ağa tarafından IV. Mehmed zamanında bitirilebilmiştir. \nCami deniz kenarına inşa edilmiştir ancak denizle mesafesi sonradan denizin doldurulması sonucu artmıştır. \nİkinci durağımız ise iki yandan merdiven ile çıkılan\, dikdörtgen planda merkezî kubbe kemerlerle dört fil ayağına ve sütunlara oturan Rüstem Paşa Camii olacak. Camii’nin kubbe eteklerine kadar her tarafı çinilerle kaplıdır. Özellikle lale motifli çiniler\, Osmanlı çini sanatının en başarılı örneklerinden sayılır. \nProgramımızda Yeni Camii\, Rüstem Paşa Camii imamları ve din görevlileri rehberlik edecektir. Camii ziyaretlerinin ardından Çatladıkapı Sosyal Tesislerinde kahvaltı yapılacaktır. Gidiş ve dönüş için Kuzey Kampüsten servisimiz vardır. Programımıza tüm mensuplarımız davetlidir. \nKatılım teyidi vermek için Kayıt Ol butonunu kullanabilirsiniz. \nKayıt Ol Not: Servisimiz Kuzey Kampüs girişten saat 05.00 itibariyle hareket edecektir. Lütfen en az 10 dk öncesinde servis alanında bulununuz.\nProgramımıza yeterli başvuru olması halinde kandilli kampüsten servis kalkacaktır.\nİrtibat no: 541 845 44 11 Edanur Ünlüsoy\n \n\n\n  \n\n\n\nSaat\nProgram Akışı\n\n\n\n\n04.07\nİmsak\n\n\n05.00\nKuzey Kampüs ve Kandilli Kampüs Girişinden Hareket\n\n\n05.25\nYeni Camii’nde Sabah Namazı\n\n\n05.40\nYeni Camii ve Çevresi Hakkında Bilgilendirme\n\n\n06.30\nRüstem Paşa Camii ve Çevresi Hakkında Bilgilendirme\n\n\n08.00\nÇatladıkapı Sosyal Tesislerinde Kahvaltı\n\n\n10.00\nServis Hareket
URL:https://byv.org.tr/evnt/sabah-namazinda-bulusuyoruz/
LOCATION:Yeni Camii\, Rüstem Paşa\, Yeni Cami Cd. No:3\, 34116 Fatih/İstanbul\, İstanbul\, İstanbul\, 34116\, Türkiye
CATEGORIES:Sabah Namazı Buluşmaları
ATTACH;FMTTYPE=image/png:https://byv.org.tr/wp-content/uploads/2023/05/169-2-3.png
END:VEVENT
END:VCALENDAR