BEGIN:VCALENDAR
VERSION:2.0
PRODID:-//BYV - ECPv6.15.20//NONSGML v1.0//EN
CALSCALE:GREGORIAN
METHOD:PUBLISH
X-ORIGINAL-URL:https://byv.org.tr
X-WR-CALDESC:BYV için etkinlikler
REFRESH-INTERVAL;VALUE=DURATION:PT1H
X-Robots-Tag:noindex
X-PUBLISHED-TTL:PT1H
BEGIN:VTIMEZONE
TZID:Europe/Istanbul
BEGIN:STANDARD
TZOFFSETFROM:+0300
TZOFFSETTO:+0300
TZNAME:+03
DTSTART:20230101T000000
END:STANDARD
END:VTIMEZONE
BEGIN:VEVENT
DTSTART;TZID=Europe/Istanbul:20240505T041500
DTEND;TZID=Europe/Istanbul:20240505T103000
DTSTAMP:20260422T160450
CREATED:20240424T064145Z
LAST-MODIFIED:20240424T064145Z
UID:29530-1714882500-1714905000@byv.org.tr
SUMMARY:Sabah Namazı Buluşmalarında Bu Ay: Merkezefendi Camii
DESCRIPTION:Boğaziçi Yöneticiler Vakfı olarak her ayın ilk pazar günü gerçekleştirdiğimiz Sabah Namazı Buluşmalarına Merkezefendi Camii’nde devam ediyoruz. \nMayıs ayı buluşmamızı\, İstanbul’un kültür ve turizm destinasyonlarından biri olan Zeytinburnu ilçesinde bulunan Merkezefendi Camii’nde gerçekleştireceğiz. \nBizans ve Osmanlı imparatorluklarına tanıklık eden Zeytinburnu ilçesi\, tarihi yapıları ve kültürel özellikleri ile zengin bir bölgedir. Rehberimiz Süleyman Topçu eşliğinde semtin tarihi ve kültürel özelliklerini dinleyerek bölgeyi yakından tanıyacağız. \nNamaz sonrası kahvaltı programımızı İBB Haliç Sosyal Tesislerinde gerçekleştirecek ve ardından servislerle Boğaziçi Üniversitesi Kuzey Kampüsü’ne dönüş sağlanacaktır. \nMerkezefendi Camii ve Zeytinburnu ilçesinin tarihi atmosferinde bir araya gelerek\, bu anlamlı buluşmayı birlikte yaşamak için hepinizi bekliyoruz. \nKayıt olmayı unutmayınız! \nNot: Servisimiz Kuzey Kampüs girişten saat 04.15 itibariyle hareket edecektir. Lütfen en az 10 dk öncesinde servis alanında bulununuz. \nKAYIT OL
URL:https://byv.org.tr/evnt/sabah-namazi-bulusmalarinda-bu-ay-merkezefendi-camii/
LOCATION:Merkezefendi Camii\, Zeytinburnu\, İstanbul
CATEGORIES:Sabah Namazı Buluşmaları
ATTACH;FMTTYPE=image/png:https://byv.org.tr/wp-content/uploads/2024/04/16.9-3.png
END:VEVENT
END:VCALENDAR