BEGIN:VCALENDAR
VERSION:2.0
PRODID:-//BYV - ECPv6.15.20//NONSGML v1.0//EN
CALSCALE:GREGORIAN
METHOD:PUBLISH
X-WR-CALNAME:BYV
X-ORIGINAL-URL:https://byv.org.tr
X-WR-CALDESC:BYV için etkinlikler
REFRESH-INTERVAL;VALUE=DURATION:PT1H
X-Robots-Tag:noindex
X-PUBLISHED-TTL:PT1H
BEGIN:VTIMEZONE
TZID:Europe/Istanbul
BEGIN:STANDARD
TZOFFSETFROM:+0300
TZOFFSETTO:+0300
TZNAME:+03
DTSTART:20230101T000000
END:STANDARD
END:VTIMEZONE
BEGIN:VEVENT
DTSTART;TZID=Europe/Istanbul:20241020T060000
DTEND;TZID=Europe/Istanbul:20241020T100000
DTSTAMP:20260420T230935
CREATED:20241011T074032Z
LAST-MODIFIED:20241216T120156Z
UID:29999-1729404000-1729418400@byv.org.tr
SUMMARY:Dönemin İlk Sabah Namazı Buluşması: Kariye Camii
DESCRIPTION:2024-2025 döneminin ilk sabah namazı buluşmasını 20 Ekim Pazar günü İstanbul’un sembol anıtlarından biri olan Kariye Camii’nde gerçekleştireceğiz. \nKariye Camii\, Edirnekapı’nın Haliç’e bakan yamacında yüzyıllardır ayakta duran ve çok katmanlı yapısı ile İstanbul’un tarihi\, kültürel ve sanatsal zenginliğini belgeleyen anıtsal bir yapıdır. Mimari üslubu\, mekân tasarımı\, boyutları\, mozaik\, fresk gibi bezeme öğeleri ve çeşitli dönem ekleriyle eşsiz bir tarihi belge niteliği taşıyan; Bizans\, Osmanlı ve İslam mimari örneklerine sahip olan Kariye Camii’ni rehberimiz Süleyman Topçu eşliğinde yakından tanıyacağız. \nNamaz sonrası kahvaltı programımızı İBB Haliç Sosyal Tesislerinde gerçekleştirecek ve ardından servisle BÜ-Kuzey Kampüs’e dönüş sağlanacaktır. \nKatılımın kontenjan ile sınırlı olduğu bu manevi buluşmaya tüm mensuplarımız davetlidir. \n20 Ekim Pazar günü gerçekleştireceğimiz bu güzel buluşmada manevi huzuru ve birlikte olmanın keyfini paylaşmak için sizleri aramızda görmekten mutluluk duyarız. \nNOT: Servisimiz Kuzey Kampüs girişten saat 06.00 itibariyle hareket edecektir. Lütfen 10 dk öncesinde servis alanında bulununuz. \nKAYIT OL!
URL:https://byv.org.tr/evnt/donemin-ilk-sabah-namazi-bulusmasi-kariye-camii/
LOCATION:Kariye Camii\, Derviş Ali\, Kariye Cami Sk.\, İstanbul\, 34087
CATEGORIES:Sabah Namazı Buluşmaları
ATTACH;FMTTYPE=image/jpeg:https://byv.org.tr/wp-content/uploads/2024/10/IMG_2767.jpg
END:VEVENT
END:VCALENDAR