BEGIN:VCALENDAR
VERSION:2.0
PRODID:-//BYV - ECPv6.15.20//NONSGML v1.0//EN
CALSCALE:GREGORIAN
METHOD:PUBLISH
X-WR-CALNAME:BYV
X-ORIGINAL-URL:https://byv.org.tr
X-WR-CALDESC:BYV için etkinlikler
REFRESH-INTERVAL;VALUE=DURATION:PT1H
X-Robots-Tag:noindex
X-PUBLISHED-TTL:PT1H
BEGIN:VTIMEZONE
TZID:Europe/Istanbul
BEGIN:STANDARD
TZOFFSETFROM:+0300
TZOFFSETTO:+0300
TZNAME:+03
DTSTART:20230101T000000
END:STANDARD
END:VTIMEZONE
BEGIN:VEVENT
DTSTART;TZID=Europe/Istanbul:20241222T064000
DTEND;TZID=Europe/Istanbul:20241222T103000
DTSTAMP:20260420T195615
CREATED:20241217T082306Z
LAST-MODIFIED:20241217T092502Z
UID:30387-1734849600-1734863400@byv.org.tr
SUMMARY:Sabah Namazı Buluşması:  Validebağ Koru Camii’ne Davetlisiniz!
DESCRIPTION:Dönemin ikinci sabah namazı buluşmasını 22 Aralık Pazar günü Üsküdar’da Validebağ Korusu içerisinde yer alan Validebağ Koru Camii’nde gerçekleştiriyoruz! \nGelenekselleşen sabah namazı buluşmamızda\, namaz sonrası kahvaltı programımızı Nevmekan Selimiye’de gerçekleştirecek ve ardından servisle BÜ-Kuzey Kampüs’e dönüş sağlanacaktır. \n22 Aralık Pazar günü gerçekleştireceğimiz bu güzel buluşmada manevi huzuru ve birlikte olmanın keyfini paylaşmak için sizleri aramızda görmekten mutluluk duyarız. \nKatılımın kontenjan ile sınırlı olduğu bu manevi buluşmaya tüm mensuplarımız davetlidir. Katılmak için aşağıdaki Kayıt Ol butonuna tıklayınız. \nNOT: Servisimiz Kuzey Kampüs girişten saat 06.40 itibariyle hareket edecektir. Lütfen 10 dk öncesinde servis alanında bulununuz. \nİrtibat No: 0 553 854 53 25 Muhammed Emin İşler \nKayıt Ol!
URL:https://byv.org.tr/evnt/sabah-namazi-bulusmasi-validebag-koru-camiine-davetlisiniz/
LOCATION:Validebağ Koru Camii\, Altunizade Mahallesi\, Rauf Sokak\, Üsküdar\, İstanbul\, Türkiye
CATEGORIES:Sabah Namazı Buluşmaları
ATTACH;FMTTYPE=image/png:https://byv.org.tr/wp-content/uploads/2024/12/web1-sabah-namazi.png
END:VEVENT
END:VCALENDAR